BEGIN:VCALENDAR
VERSION:2.0
PRODID:-//EdUHK-LTTC - ECPv6.9.0//NONSGML v1.0//EN
CALSCALE:GREGORIAN
METHOD:PUBLISH
X-ORIGINAL-URL:https://lttc.eduhk.hk
X-WR-CALDESC:Events for EdUHK-LTTC
REFRESH-INTERVAL;VALUE=DURATION:PT1H
X-Robots-Tag:noindex
X-PUBLISHED-TTL:PT1H
BEGIN:VTIMEZONE
TZID:UTC
BEGIN:STANDARD
TZOFFSETFROM:+0000
TZOFFSETTO:+0000
TZNAME:UTC
DTSTART:20240101T000000
END:STANDARD
END:VTIMEZONE
BEGIN:VEVENT
DTSTART;TZID=UTC:20240930T113000
DTEND;TZID=UTC:20240930T123000
DTSTAMP:20260425T023849
CREATED:20241028T094507Z
LAST-MODIFIED:20250524T041359Z
UID:10000043-1727695800-1727699400@lttc.eduhk.hk
SUMMARY:Turnitin for Online Similarity Check and Feedback Studio and AI detector
DESCRIPTION:test
URL:https://lttc.eduhk.hk/events/20240930_1/
LOCATION:online via zoom\, Online via Zoom
CATEGORIES:For Staff,Moodle
ATTACH;FMTTYPE=image/jpeg:https://lttc.eduhk.hk/wp-content/uploads/2024/09/Image-5.jpg
END:VEVENT
BEGIN:VEVENT
DTSTART;TZID=UTC:20240924T113000
DTEND;TZID=UTC:20240924T123000
DTSTAMP:20260425T023849
CREATED:20241028T094049Z
LAST-MODIFIED:20250524T035425Z
UID:10000042-1727177400-1727181000@lttc.eduhk.hk
SUMMARY:Using Quiz for Assessment in Moodle LMS
DESCRIPTION:test
URL:https://lttc.eduhk.hk/events/20240924_2/
LOCATION:online via zoom\, Online via Zoom
CATEGORIES:For Staff,Moodle
ATTACH;FMTTYPE=image/jpeg:https://lttc.eduhk.hk/wp-content/uploads/2024/09/Image-5.jpg
END:VEVENT
BEGIN:VEVENT
DTSTART;TZID=UTC:20240913T113000
DTEND;TZID=UTC:20240913T123000
DTSTAMP:20260425T023849
CREATED:20241028T093731Z
LAST-MODIFIED:20250524T041359Z
UID:10000041-1726227000-1726230600@lttc.eduhk.hk
SUMMARY:Turnitin for Online Similarity Check and Feedback Studio and AI detector
DESCRIPTION:test
URL:https://lttc.eduhk.hk/events/20240913_2/
LOCATION:online via zoom\, Online via Zoom
CATEGORIES:For Staff,Moodle
ATTACH;FMTTYPE=image/jpeg:https://lttc.eduhk.hk/wp-content/uploads/2024/09/Image-5.jpg
END:VEVENT
BEGIN:VEVENT
DTSTART;TZID=UTC:20240912T113000
DTEND;TZID=UTC:20240912T123000
DTSTAMP:20260425T023849
CREATED:20241028T093304Z
LAST-MODIFIED:20250524T041400Z
UID:10000040-1726140600-1726144200@lttc.eduhk.hk
SUMMARY:Using Discussion Forum in Moodle LMS
DESCRIPTION:test
URL:https://lttc.eduhk.hk/events/20240912_1/
LOCATION:online via zoom\, Online via Zoom
CATEGORIES:For Staff,Moodle
ATTACH;FMTTYPE=image/jpeg:https://lttc.eduhk.hk/wp-content/uploads/2024/09/Image-5.jpg
END:VEVENT
BEGIN:VEVENT
DTSTART;TZID=UTC:20240905T133000
DTEND;TZID=UTC:20240911T143000
DTSTAMP:20260425T023849
CREATED:20241026T012947Z
LAST-MODIFIED:20250524T041413Z
UID:10000007-1725543000-1726065000@lttc.eduhk.hk
SUMMARY:Learning with Moodle LMS
DESCRIPTION:test
URL:https://lttc.eduhk.hk/events/20240905_1/
LOCATION:test stateeee\, test\, test\, test\, 11011
CATEGORIES:For Student,Moodle
ATTACH;FMTTYPE=image/png:https://lttc.eduhk.hk/wp-content/uploads/2024/12/Banner-Default.png
END:VEVENT
END:VCALENDAR