BEGIN:VCALENDAR
VERSION:2.0
PRODID:-//EdUHK-LTTC - ECPv6.9.0//NONSGML v1.0//EN
CALSCALE:GREGORIAN
METHOD:PUBLISH
X-ORIGINAL-URL:https://lttc.eduhk.hk
X-WR-CALDESC:Events for EdUHK-LTTC
REFRESH-INTERVAL;VALUE=DURATION:PT1H
X-Robots-Tag:noindex
X-PUBLISHED-TTL:PT1H
BEGIN:VTIMEZONE
TZID:UTC
BEGIN:STANDARD
TZOFFSETFROM:+0000
TZOFFSETTO:+0000
TZNAME:UTC
DTSTART:20260101T000000
END:STANDARD
END:VTIMEZONE
BEGIN:VEVENT
DTSTART;TZID=UTC:20260130T111500
DTEND;TZID=UTC:20260130T120000
DTSTAMP:20260426T023149
CREATED:20260122T040950Z
LAST-MODIFIED:20260122T040951Z
UID:10000578-1769771700-1769774400@lttc.eduhk.hk
SUMMARY:Using Panopto for Discussion and Distributing Panopto Video via Moodle (for Staff and TAs) (Cantonese / English)
DESCRIPTION:
URL:https://lttc.eduhk.hk/events/20260130_2/
CATEGORIES:For Staff,Moodle,Video Production
ATTACH;FMTTYPE=image/png:https://lttc.eduhk.hk/wp-content/uploads/2024/12/Banner-Default.png
ORGANIZER;CN="LTTC":MAILTO:lttc@eduhk.hk
END:VEVENT
END:VCALENDAR