BEGIN:VCALENDAR
VERSION:2.0
PRODID:-//EdUHK-LTTC - ECPv6.9.0//NONSGML v1.0//EN
CALSCALE:GREGORIAN
METHOD:PUBLISH
X-ORIGINAL-URL:https://lttc.eduhk.hk
X-WR-CALDESC:Events for EdUHK-LTTC
REFRESH-INTERVAL;VALUE=DURATION:PT1H
X-Robots-Tag:noindex
X-PUBLISHED-TTL:PT1H
BEGIN:VTIMEZONE
TZID:UTC
BEGIN:STANDARD
TZOFFSETFROM:+0000
TZOFFSETTO:+0000
TZNAME:UTC
DTSTART:20150101T000000
END:STANDARD
END:VTIMEZONE
BEGIN:VEVENT
DTSTART;TZID=UTC:20220913T140000
DTEND;TZID=UTC:20220913T170000
DTSTAMP:20260419T180759
CREATED:20220913T033222Z
LAST-MODIFIED:20250625T113150Z
UID:10000411-1663077600-1663088400@lttc.eduhk.hk
SUMMARY:Workshop: Introduction to 3D Printing (For Students)
DESCRIPTION:
URL:https://lttc.eduhk.hk/events/20220913_1/
LOCATION:E-P-12 (Metaverse Education Lab)
CATEGORIES:3D Modeling and Printing,e-learning-and-digital-competency,For Student
ATTACH;FMTTYPE=image/jpeg:https://lttc.eduhk.hk/wp-content/uploads/2022/09/3Dprint_image.jpg
ORGANIZER;CN="LTTC":MAILTO:lttc@eduhk.hk
END:VEVENT
BEGIN:VEVENT
DTSTART;TZID=UTC:20220824T140000
DTEND;TZID=UTC:20220824T163000
DTSTAMP:20260419T180759
CREATED:20250516T081245Z
LAST-MODIFIED:20250524T041223Z
UID:10000327-1661349600-1661358600@lttc.eduhk.hk
SUMMARY:Workshop 2: Festival Greetings\, Birth of a Chick (micro:bit + Scratch)
DESCRIPTION:
URL:https://lttc.eduhk.hk/events/20220824_1/
CATEGORIES:For Student,STEM Education
ATTACH;FMTTYPE=image/png:https://lttc.eduhk.hk/wp-content/uploads/2025/05/stem1.png
END:VEVENT
BEGIN:VEVENT
DTSTART;TZID=UTC:20220818T143000
DTEND;TZID=UTC:20220818T173000
DTSTAMP:20260419T180759
CREATED:20220801T074643Z
LAST-MODIFIED:20250625T113406Z
UID:10000424-1660833000-1660843800@lttc.eduhk.hk
SUMMARY:Workshop on Creating 360 Virtual Tour for Teaching in VR CAVE (Session 3/3)
DESCRIPTION:
URL:https://lttc.eduhk.hk/events/20220818_2/
LOCATION:C-2/F-01C (Extended Reality Room)\, MMW Library
CATEGORIES:e-learning-and-digital-competency,For Student,Metaverse and Virtual Space
ATTACH;FMTTYPE=image/jpeg:https://lttc.eduhk.hk/wp-content/uploads/2025/01/Image.jpg
ORGANIZER;CN="LTTC":MAILTO:lttc@eduhk.hk
END:VEVENT
BEGIN:VEVENT
DTSTART;TZID=UTC:20220818T143000
DTEND;TZID=UTC:20220818T171500
DTSTAMP:20260419T180759
CREATED:20241028T074411Z
LAST-MODIFIED:20250625T114437Z
UID:10000027-1660833000-1660842900@lttc.eduhk.hk
SUMMARY:Assessment and Feedback Design in Virtual Environments for Future-Ready Graduates
DESCRIPTION:
URL:https://lttc.eduhk.hk/events/20220818_1/
LOCATION:Online through Zoom
CATEGORIES:For Student
ATTACH;FMTTYPE=image/png:https://lttc.eduhk.hk/wp-content/uploads/2024/12/Asi-2022-42-×-59.4-厘米.png
END:VEVENT
BEGIN:VEVENT
DTSTART;TZID=UTC:20220801T080000
DTEND;TZID=UTC:20220930T170000
DTSTAMP:20260419T180759
CREATED:20250516T074935Z
LAST-MODIFIED:20250524T041225Z
UID:10000319-1659340800-1664557200@lttc.eduhk.hk
SUMMARY:STEM+C and IoT Workshops
DESCRIPTION:
URL:https://lttc.eduhk.hk/events/20220801_1/
CATEGORIES:For Student,STEM Education
ATTACH;FMTTYPE=image/png:https://lttc.eduhk.hk/wp-content/uploads/2025/05/STEMC-Workshop-Poster_20220725a.png
END:VEVENT
BEGIN:VEVENT
DTSTART;TZID=UTC:20220624T113000
DTEND;TZID=UTC:20220624T123000
DTSTAMP:20260419T180759
CREATED:20241028T065647Z
LAST-MODIFIED:20250625T113954Z
UID:10000023-1656070200-1656073800@lttc.eduhk.hk
SUMMARY:Education Today and Tomorrow: Exploring the Metaverse with AWS
DESCRIPTION:
URL:https://lttc.eduhk.hk/events/20220624_1/
LOCATION:Online through Zoom
CATEGORIES:For Student
ATTACH;FMTTYPE=image/png:https://lttc.eduhk.hk/wp-content/uploads/2024/10/MetaACES-2022-1449x2048-1.png
END:VEVENT
BEGIN:VEVENT
DTSTART;TZID=UTC:20220518T124500
DTEND;TZID=UTC:20220518T134500
DTSTAMP:20260419T180759
CREATED:20241028T015704Z
LAST-MODIFIED:20250625T114503Z
UID:10000013-1652877900-1652881500@lttc.eduhk.hk
SUMMARY:Leveraging Virtual Reality Creation and Learning Analytics in Cultural Heritage Education
DESCRIPTION:
URL:https://lttc.eduhk.hk/events/20220518_1/
LOCATION:Online through Zoom
CATEGORIES:For Student
ATTACH;FMTTYPE=image/png:https://lttc.eduhk.hk/wp-content/uploads/2024/10/Leveraging-virtual-reality-creation-and-learning-analytics-in-cultural-heritage-education-14.png
END:VEVENT
BEGIN:VEVENT
DTSTART;TZID=UTC:20220110T130000
DTEND;TZID=UTC:20220110T143000
DTSTAMP:20260419T180759
CREATED:20241025T070603Z
LAST-MODIFIED:20250625T114651Z
UID:10000006-1641819600-1641825000@lttc.eduhk.hk
SUMMARY:An Application in AIoT: RaceFit for Motion Detection
DESCRIPTION:
URL:https://lttc.eduhk.hk/events/20220110_1/
LOCATION:STEM Innovation Hub (C-LP-06)
CATEGORIES:For Student
ATTACH;FMTTYPE=image/png:https://lttc.eduhk.hk/wp-content/uploads/2024/10/AI-Application-Seminar-RaceFitPoster.png
END:VEVENT
BEGIN:VEVENT
DTSTART;TZID=UTC:20211208T080000
DTEND;TZID=UTC:20211210T170000
DTSTAMP:20260419T180759
CREATED:20250121T065033Z
LAST-MODIFIED:20250524T041236Z
UID:10000291-1638950400-1639155600@lttc.eduhk.hk
SUMMARY:International Conference on Learning and Teaching 2021
DESCRIPTION:
URL:https://lttc.eduhk.hk/events/20211208_1/
CATEGORIES:Conference,For Staff,For Student
ATTACH;FMTTYPE=image/jpeg:https://lttc.eduhk.hk/wp-content/uploads/2025/01/slide1a.jpg
END:VEVENT
BEGIN:VEVENT
DTSTART;TZID=UTC:20211002T080000
DTEND;TZID=UTC:20211231T170000
DTSTAMP:20260419T180759
CREATED:20250117T035952Z
LAST-MODIFIED:20250524T041243Z
UID:10000224-1633161600-1640970000@lttc.eduhk.hk
SUMMARY:Learning and Teaching @EdUHK Festival 2021
DESCRIPTION:
URL:https://lttc.eduhk.hk/events/20211002_1/
CATEGORIES:For Staff,For Student,L & T
ATTACH;FMTTYPE=image/png:https://lttc.eduhk.hk/wp-content/uploads/2025/01/Image-3.png
END:VEVENT
BEGIN:VEVENT
DTSTART;TZID=UTC:20201202T080000
DTEND;TZID=UTC:20201204T170000
DTSTAMP:20260419T180759
CREATED:20250121T065401Z
LAST-MODIFIED:20250524T041235Z
UID:10000292-1606896000-1607101200@lttc.eduhk.hk
SUMMARY:International Conference on Learning and Teaching 2020
DESCRIPTION:
URL:https://lttc.eduhk.hk/events/20201202_1/
CATEGORIES:Conference,For Staff,For Student
ATTACH;FMTTYPE=image/jpeg:https://lttc.eduhk.hk/wp-content/uploads/2025/01/slide1a-1.jpg
END:VEVENT
BEGIN:VEVENT
DTSTART;TZID=UTC:20200203T080000
DTEND;TZID=UTC:20201204T170000
DTSTAMP:20260419T180759
CREATED:20250117T040010Z
LAST-MODIFIED:20250524T041243Z
UID:10000225-1580716800-1607101200@lttc.eduhk.hk
SUMMARY:Learning and Teaching @EdUHK Festival 2020
DESCRIPTION:
URL:https://lttc.eduhk.hk/events/20200203_1/
CATEGORIES:For Staff,For Student,L & T
ATTACH;FMTTYPE=image/png:https://lttc.eduhk.hk/wp-content/uploads/2025/01/Image-4.png
END:VEVENT
BEGIN:VEVENT
DTSTART;TZID=UTC:20190201T080000
DTEND;TZID=UTC:20190531T170000
DTSTAMP:20260419T180759
CREATED:20250117T040341Z
LAST-MODIFIED:20250524T041242Z
UID:10000226-1549008000-1559322000@lttc.eduhk.hk
SUMMARY:Learning and Teaching @EdUHK Festival 2019
DESCRIPTION:
URL:https://lttc.eduhk.hk/events/20190201_1/
CATEGORIES:For Staff,For Student,L & T
ATTACH;FMTTYPE=image/png:https://lttc.eduhk.hk/wp-content/uploads/2025/01/Image-5.png
END:VEVENT
BEGIN:VEVENT
DTSTART;TZID=UTC:20180201T080000
DTEND;TZID=UTC:20180531T170000
DTSTAMP:20260419T180759
CREATED:20250117T040505Z
LAST-MODIFIED:20250524T041242Z
UID:10000227-1517472000-1527786000@lttc.eduhk.hk
SUMMARY:Learning and Teaching @EdUHK Festival 2018
DESCRIPTION:
URL:https://lttc.eduhk.hk/events/20180201_1/
CATEGORIES:For Staff,For Student,L & T
ATTACH;FMTTYPE=image/png:https://lttc.eduhk.hk/wp-content/uploads/2025/01/Image-6.png
END:VEVENT
BEGIN:VEVENT
DTSTART;TZID=UTC:20170101T080000
DTEND;TZID=UTC:20170331T170000
DTSTAMP:20260419T180759
CREATED:20250117T040612Z
LAST-MODIFIED:20250524T041241Z
UID:10000228-1483257600-1490979600@lttc.eduhk.hk
SUMMARY:Learning and Teaching @EdUHK Festival 2017
DESCRIPTION:
URL:https://lttc.eduhk.hk/events/20170101_1/
CATEGORIES:For Staff,For Student,L & T
ATTACH;FMTTYPE=image/png:https://lttc.eduhk.hk/wp-content/uploads/2025/01/Image-7.png
END:VEVENT
BEGIN:VEVENT
DTSTART;TZID=UTC:20160524T093000
DTEND;TZID=UTC:20160524T161500
DTSTAMP:20260419T180759
CREATED:20250117T040732Z
LAST-MODIFIED:20250524T041240Z
UID:10000229-1464082200-1464106500@lttc.eduhk.hk
SUMMARY:E-Learning in Higher Education Seminar Day cum Open Class Observation 2016
DESCRIPTION:
URL:https://lttc.eduhk.hk/events/20160524_1/
CATEGORIES:For Staff,For Student,L & T
ATTACH;FMTTYPE=image/png:https://lttc.eduhk.hk/wp-content/uploads/2025/01/Image-8.png
END:VEVENT
BEGIN:VEVENT
DTSTART;TZID=UTC:20150201T080000
DTEND;TZID=UTC:20150331T170000
DTSTAMP:20260419T180759
CREATED:20250117T040846Z
LAST-MODIFIED:20250524T041240Z
UID:10000230-1422777600-1427821200@lttc.eduhk.hk
SUMMARY:Learning and Teaching @EdUHK Festival 2015
DESCRIPTION:
URL:https://lttc.eduhk.hk/events/20150201_1/
CATEGORIES:For Staff,For Student,L & T
ATTACH;FMTTYPE=image/png:https://lttc.eduhk.hk/wp-content/uploads/2025/01/Image.png
END:VEVENT
END:VCALENDAR