BEGIN:VCALENDAR
VERSION:2.0
PRODID:-//EdUHK-LTTC - ECPv6.9.0//NONSGML v1.0//EN
CALSCALE:GREGORIAN
METHOD:PUBLISH
X-ORIGINAL-URL:https://lttc.eduhk.hk
X-WR-CALDESC:Events for EdUHK-LTTC
REFRESH-INTERVAL;VALUE=DURATION:PT1H
X-Robots-Tag:noindex
X-PUBLISHED-TTL:PT1H
BEGIN:VTIMEZONE
TZID:UTC
BEGIN:STANDARD
TZOFFSETFROM:+0000
TZOFFSETTO:+0000
TZNAME:UTC
DTSTART:20220101T000000
END:STANDARD
END:VTIMEZONE
BEGIN:VEVENT
DTSTART;TZID=UTC:20221205T123000
DTEND;TZID=UTC:20221205T144000
DTSTAMP:20260419T222817
CREATED:20241220T080057Z
LAST-MODIFIED:20250524T041302Z
UID:10000178-1670243400-1670251200@lttc.eduhk.hk
SUMMARY:Effective Virtual Teaching and Learning: Experience Sharing and Lessons Learnt from Project Teams
DESCRIPTION:
URL:https://lttc.eduhk.hk/events/20221205_1/
CATEGORIES:For Staff,For Student
ATTACH;FMTTYPE=image/png:https://lttc.eduhk.hk/wp-content/uploads/2024/12/5-December-2022.png
END:VEVENT
BEGIN:VEVENT
DTSTART;TZID=UTC:20221129T143000
DTEND;TZID=UTC:20221129T160000
DTSTAMP:20260419T222817
CREATED:20241109T044307Z
LAST-MODIFIED:20250625T114408Z
UID:10000125-1669732200-1669737600@lttc.eduhk.hk
SUMMARY:Professional Development Workshop for GEFC Tutors
DESCRIPTION:test
URL:https://lttc.eduhk.hk/events/20221129_2/
LOCATION:test stateeee\, test\, test\, test\, 11011
CATEGORIES:For Staff
ATTACH;FMTTYPE=image/png:https://lttc.eduhk.hk/wp-content/uploads/2024/11/default-image.png
END:VEVENT
BEGIN:VEVENT
DTSTART;TZID=UTC:20221129T133000
DTEND;TZID=UTC:20221129T143000
DTSTAMP:20260419T222817
CREATED:20241220T054214Z
LAST-MODIFIED:20250524T041302Z
UID:10000177-1669728600-1669732200@lttc.eduhk.hk
SUMMARY:UGC Awardee’s Sharing Seminar (2) in 2022/23: Designing and Implementing Writing Components in STEM Courses
DESCRIPTION:
URL:https://lttc.eduhk.hk/events/20221129_1/
CATEGORIES:For Staff,SPD Theme III
ATTACH;FMTTYPE=image/jpeg:https://lttc.eduhk.hk/wp-content/uploads/2024/12/29-November-2022-Tue.jpg
END:VEVENT
BEGIN:VEVENT
DTSTART;TZID=UTC:20221125T133000
DTEND;TZID=UTC:20221125T143000
DTSTAMP:20260419T222817
CREATED:20241220T051655Z
LAST-MODIFIED:20250524T041303Z
UID:10000176-1669383000-1669386600@lttc.eduhk.hk
SUMMARY:UGC Awardee’s Sharing Seminar (1) in 2022/23: Using Empathy as a Core Teaching Strategy: Case Studies and Practices to Improve Teaching Experiences
DESCRIPTION:
URL:https://lttc.eduhk.hk/events/20221125_1/
CATEGORIES:For Staff,SPD Theme III
ATTACH;FMTTYPE=image/jpeg:https://lttc.eduhk.hk/wp-content/uploads/2024/12/25-November-2022-Fri.jpg
END:VEVENT
BEGIN:VEVENT
DTSTART;TZID=UTC:20221117T123000
DTEND;TZID=UTC:20221117T133000
DTSTAMP:20260419T222817
CREATED:20241220T045851Z
LAST-MODIFIED:20250524T041304Z
UID:10000175-1668688200-1668691800@lttc.eduhk.hk
SUMMARY:Data and Evidence-Informed Learning and Teaching
DESCRIPTION:
URL:https://lttc.eduhk.hk/events/20221117_1/
CATEGORIES:For Staff,SPD Theme III
ATTACH;FMTTYPE=image/png:https://lttc.eduhk.hk/wp-content/uploads/2024/12/17-November-2022-Thurs.png
END:VEVENT
BEGIN:VEVENT
DTSTART;TZID=UTC:20221111T150000
DTEND;TZID=UTC:20221111T161500
DTSTAMP:20260419T222817
CREATED:20241220T042854Z
LAST-MODIFIED:20250524T041304Z
UID:10000174-1668178800-1668183300@lttc.eduhk.hk
SUMMARY:Exploring Students’ Feedback Literacy Development Following a Work Placement Year
DESCRIPTION:
URL:https://lttc.eduhk.hk/events/20221111_1/
CATEGORIES:For Staff,SPD Theme III
ATTACH;FMTTYPE=image/png:https://lttc.eduhk.hk/wp-content/uploads/2024/12/11-November-2022-Fri.png
END:VEVENT
BEGIN:VEVENT
DTSTART;TZID=UTC:20221108T143000
DTEND;TZID=UTC:20221108T151500
DTSTAMP:20260419T222817
CREATED:20241220T040708Z
LAST-MODIFIED:20250524T041305Z
UID:10000173-1667917800-1667920500@lttc.eduhk.hk
SUMMARY:TDG Project Sharing Seminar (3) in 2022/23: University Students Supporting School Teachers of Academically At-Risk Students through Educational Technology
DESCRIPTION:
URL:https://lttc.eduhk.hk/events/20221108_1/
CATEGORIES:For Staff,SPD Theme III
ATTACH;FMTTYPE=image/jpeg:https://lttc.eduhk.hk/wp-content/uploads/2024/12/8-November-2022-Tue.jpg
END:VEVENT
BEGIN:VEVENT
DTSTART;TZID=UTC:20221028T123000
DTEND;TZID=UTC:20221028T133000
DTSTAMP:20260419T222817
CREATED:20241114T082103Z
LAST-MODIFIED:20250524T041317Z
UID:10000153-1666960200-1666963800@lttc.eduhk.hk
SUMMARY:Statistical Concepts in Higher Education – Class 2 (Cantonese): Consolidation
DESCRIPTION:
URL:https://lttc.eduhk.hk/events/20221028_1/
CATEGORIES:For Staff,For Student
ATTACH;FMTTYPE=image/jpeg:https://lttc.eduhk.hk/wp-content/uploads/2024/11/Statistical-Concepts-in-Higher-Education-–-Class-2-Cantonese-Consolidation.jpg
END:VEVENT
BEGIN:VEVENT
DTSTART;TZID=UTC:20221026T100000
DTEND;TZID=UTC:20221026T120000
DTSTAMP:20260419T222817
CREATED:20241114T091257Z
LAST-MODIFIED:20250625T113347Z
UID:10000111-1666778400-1666785600@lttc.eduhk.hk
SUMMARY:Creating 360 Virtual Tour for Teaching in VR CAVE (Cantonese) (Session 1/3)
DESCRIPTION:test
URL:https://lttc.eduhk.hk/events/20221026_1/
LOCATION:online via zoom\, Online via Zoom
CATEGORIES:e-learning-and-digital-competency,For Staff,For Student,Metaverse and Virtual Space
ATTACH;FMTTYPE=image/png:https://lttc.eduhk.hk/wp-content/uploads/2024/10/Poster_360VR_Artboard-Student-P-1.png
END:VEVENT
BEGIN:VEVENT
DTSTART;TZID=UTC:20221025T143000
DTEND;TZID=UTC:20221025T153000
DTSTAMP:20260419T222817
CREATED:20241114T084643Z
LAST-MODIFIED:20250524T041316Z
UID:10000154-1666708200-1666711800@lttc.eduhk.hk
SUMMARY:Statistical Concepts in Higher Education – Class 1 (Cantonese): Consolidation
DESCRIPTION:
URL:https://lttc.eduhk.hk/events/20221025_1/
CATEGORIES:For Staff,For Student
ATTACH;FMTTYPE=image/jpeg:https://lttc.eduhk.hk/wp-content/uploads/2024/11/Statistical-Concepts-in-Higher-Education-–-Class-2-Cantonese-Consolidation.jpg
END:VEVENT
BEGIN:VEVENT
DTSTART;TZID=UTC:20221024T113000
DTEND;TZID=UTC:20221024T130000
DTSTAMP:20260419T222817
CREATED:20241220T034626Z
LAST-MODIFIED:20250524T041306Z
UID:10000172-1666611000-1666616400@lttc.eduhk.hk
SUMMARY:Teaching Awardees’ Sharing Seminar
DESCRIPTION:
URL:https://lttc.eduhk.hk/events/20221024_1/
CATEGORIES:For Staff,SPD Theme III
ATTACH;FMTTYPE=image/png:https://lttc.eduhk.hk/wp-content/uploads/2024/12/24-October-2022-Mon.png
END:VEVENT
BEGIN:VEVENT
DTSTART;TZID=UTC:20221021T123000
DTEND;TZID=UTC:20221021T133000
DTSTAMP:20260419T222817
CREATED:20241114T085349Z
LAST-MODIFIED:20250524T041316Z
UID:10000155-1666355400-1666359000@lttc.eduhk.hk
SUMMARY:Statistical Concepts in Higher Education – Class 3 (Cantonese): Lesson 2
DESCRIPTION:
URL:https://lttc.eduhk.hk/events/20221021_1/
CATEGORIES:For Staff,For Student
ATTACH;FMTTYPE=image/jpeg:https://lttc.eduhk.hk/wp-content/uploads/2024/11/Statistical-Concepts-in-Higher-Education-–-Class-2-Cantonese-Consolidation.jpg
END:VEVENT
BEGIN:VEVENT
DTSTART;TZID=UTC:20221020T123000
DTEND;TZID=UTC:20221020T133000
DTSTAMP:20260419T222817
CREATED:20241114T085636Z
LAST-MODIFIED:20250524T041315Z
UID:10000156-1666269000-1666272600@lttc.eduhk.hk
SUMMARY:Statistical Concepts in Higher Education – Class 2 (English): Consolidation
DESCRIPTION:
URL:https://lttc.eduhk.hk/events/20221020_1/
CATEGORIES:For Staff,For Student
ATTACH;FMTTYPE=image/jpeg:https://lttc.eduhk.hk/wp-content/uploads/2024/11/Statistical-Concepts-in-Higher-Education-–-Class-2-Cantonese-Consolidation.jpg
END:VEVENT
BEGIN:VEVENT
DTSTART;TZID=UTC:20221019T143000
DTEND;TZID=UTC:20221019T154500
DTSTAMP:20260419T222817
CREATED:20241220T033354Z
LAST-MODIFIED:20250524T041306Z
UID:10000171-1666189800-1666194300@lttc.eduhk.hk
SUMMARY:Ways of Designing Assessment with Feedback for Facilitating Students’ Self-Regulated Learning
DESCRIPTION:
URL:https://lttc.eduhk.hk/events/20221019_1/
CATEGORIES:For Staff,SPD Theme III
ATTACH;FMTTYPE=image/jpeg:https://lttc.eduhk.hk/wp-content/uploads/2024/12/19-October-2022-Wed.jpg
END:VEVENT
BEGIN:VEVENT
DTSTART;TZID=UTC:20221019T100000
DTEND;TZID=UTC:20221019T130000
DTSTAMP:20260419T222817
CREATED:20241114T092631Z
LAST-MODIFIED:20250625T113342Z
UID:10000159-1666173600-1666184400@lttc.eduhk.hk
SUMMARY:Creating 360 Virtual Tour for Teaching in VR CAVE (Cantonese) (Session 2/3)
DESCRIPTION:test
URL:https://lttc.eduhk.hk/events/20221019_2/
LOCATION:online via zoom\, Online via Zoom
CATEGORIES:e-learning-and-digital-competency,For Staff,For Student,Metaverse and Virtual Space
ATTACH;FMTTYPE=image/png:https://lttc.eduhk.hk/wp-content/uploads/2024/10/Poster_360VR_Artboard-Student-P-1.png
END:VEVENT
BEGIN:VEVENT
DTSTART;TZID=UTC:20221018T143000
DTEND;TZID=UTC:20221018T153000
DTSTAMP:20260419T222817
CREATED:20241114T090235Z
LAST-MODIFIED:20250524T041314Z
UID:10000157-1666103400-1666107000@lttc.eduhk.hk
SUMMARY:Statistical Concepts in Higher Education – Class 1 (Cantonese): Lesson 2
DESCRIPTION:
URL:https://lttc.eduhk.hk/events/20221018_1/
CATEGORIES:For Staff,For Student
ATTACH;FMTTYPE=image/jpeg:https://lttc.eduhk.hk/wp-content/uploads/2024/11/Statistical-Concepts-in-Higher-Education-–-Class-2-Cantonese-Consolidation.jpg
END:VEVENT
BEGIN:VEVENT
DTSTART;TZID=UTC:20221013T123000
DTEND;TZID=UTC:20221013T133000
DTSTAMP:20260419T222817
CREATED:20241114T094338Z
LAST-MODIFIED:20250524T041312Z
UID:10000158-1665664200-1665667800@lttc.eduhk.hk
SUMMARY:Statistical Concepts in Higher Education – Class 2 (English): Lesson 2
DESCRIPTION:
URL:https://lttc.eduhk.hk/events/20221013_1/
CATEGORIES:For Staff,For Student
ATTACH;FMTTYPE=image/jpeg:https://lttc.eduhk.hk/wp-content/uploads/2024/11/Statistical-Concepts-in-Higher-Education-–-Class-2-Cantonese-Consolidation.jpg
END:VEVENT
BEGIN:VEVENT
DTSTART;TZID=UTC:20221012T100000
DTEND;TZID=UTC:20221012T123000
DTSTAMP:20260419T222817
CREATED:20241104T085918Z
LAST-MODIFIED:20250625T113352Z
UID:10000098-1665568800-1665577800@lttc.eduhk.hk
SUMMARY:Creating 360 Virtual Tour for Teaching in VR CAVE (Cantonese) (Session 1/3)
DESCRIPTION:test
URL:https://lttc.eduhk.hk/events/20221012_1/
LOCATION:C-2/F-01D (STEM Room @ Library)
CATEGORIES:e-learning-and-digital-competency,For Staff,For Student,Metaverse and Virtual Space
ATTACH;FMTTYPE=image/png:https://lttc.eduhk.hk/wp-content/uploads/2024/10/Poster_360VR_Artboard-Student-P-1.png
ORGANIZER;CN="LTTC":MAILTO:lttc@eduhk.hk
END:VEVENT
BEGIN:VEVENT
DTSTART;TZID=UTC:20221011T143000
DTEND;TZID=UTC:20221011T153000
DTSTAMP:20260419T222817
CREATED:20241114T094630Z
LAST-MODIFIED:20250524T041312Z
UID:10000161-1665498600-1665502200@lttc.eduhk.hk
SUMMARY:Statistical Concepts in Higher Education – Class 1 (Cantonese): Lesson 1
DESCRIPTION:
URL:https://lttc.eduhk.hk/events/20221011_1/
CATEGORIES:For Staff,For Student
ATTACH;FMTTYPE=image/jpeg:https://lttc.eduhk.hk/wp-content/uploads/2024/11/Statistical-Concepts-in-Higher-Education-–-Class-2-Cantonese-Consolidation.jpg
END:VEVENT
BEGIN:VEVENT
DTSTART;TZID=UTC:20221007T123000
DTEND;TZID=UTC:20221007T133000
DTSTAMP:20260419T222817
CREATED:20241114T095039Z
LAST-MODIFIED:20250524T041311Z
UID:10000162-1665145800-1665149400@lttc.eduhk.hk
SUMMARY:Statistical Concepts in Higher Education – Class 3 (Cantonese): Lesson 1
DESCRIPTION:
URL:https://lttc.eduhk.hk/events/20221007_2/
CATEGORIES:For Staff,For Student
ATTACH;FMTTYPE=image/jpeg:https://lttc.eduhk.hk/wp-content/uploads/2024/11/Statistical-Concepts-in-Higher-Education-–-Class-2-Cantonese-Consolidation.jpg
END:VEVENT
BEGIN:VEVENT
DTSTART;TZID=UTC:20221007T090000
DTEND;TZID=UTC:20221007T100000
DTSTAMP:20260419T222817
CREATED:20241220T025825Z
LAST-MODIFIED:20250524T041307Z
UID:10000170-1665133200-1665136800@lttc.eduhk.hk
SUMMARY:Complementing Classroom Teaching with Hybrid Experiential Learning
DESCRIPTION:
URL:https://lttc.eduhk.hk/events/20221007_1/
CATEGORIES:For Staff,SPD Theme III
ATTACH;FMTTYPE=image/png:https://lttc.eduhk.hk/wp-content/uploads/2024/12/7-October-2022-Fri.png
END:VEVENT
BEGIN:VEVENT
DTSTART;TZID=UTC:20221006T123000
DTEND;TZID=UTC:20221006T123000
DTSTAMP:20260419T222817
CREATED:20241114T095443Z
LAST-MODIFIED:20250524T041310Z
UID:10000163-1665059400-1665059400@lttc.eduhk.hk
SUMMARY:Statistical Concepts in Higher Education – Class 2 (English): Lesson 1
DESCRIPTION:
URL:https://lttc.eduhk.hk/events/20221006_1/
CATEGORIES:For Staff,For Student
ATTACH;FMTTYPE=image/jpeg:https://lttc.eduhk.hk/wp-content/uploads/2024/11/Statistical-Concepts-in-Higher-Education-–-Class-2-Cantonese-Consolidation.jpg
END:VEVENT
BEGIN:VEVENT
DTSTART;TZID=UTC:20221005T123000
DTEND;TZID=UTC:20221005T133000
DTSTAMP:20260419T222817
CREATED:20250517T012245Z
LAST-MODIFIED:20250529T102626Z
UID:10000359-1664973000-1664976600@lttc.eduhk.hk
SUMMARY:Experience Sharing and Demonstration of Learning Analytics Tools in Moodle
DESCRIPTION:
URL:https://lttc.eduhk.hk/events/20221003_1/2022-10-05/
CATEGORIES:For Staff
ATTACH;FMTTYPE=image/jpeg:https://lttc.eduhk.hk/wp-content/uploads/2025/05/ALPoster_20220923_small.jpg
END:VEVENT
BEGIN:VEVENT
DTSTART;TZID=UTC:20220930T123000
DTEND;TZID=UTC:20220930T131500
DTSTAMP:20260419T222817
CREATED:20241219T102743Z
LAST-MODIFIED:20250524T041308Z
UID:10000167-1664541000-1664543700@lttc.eduhk.hk
SUMMARY:TDG Project Sharing Seminar (2) in 2022/23: Course Materials Production for Artificial Intelligence (AI) Makers by Integrating Computer Vision and 3D Technologies
DESCRIPTION:
URL:https://lttc.eduhk.hk/events/20220930_1/
CATEGORIES:For Staff,SPD Theme III
ATTACH;FMTTYPE=image/png:https://lttc.eduhk.hk/wp-content/uploads/2024/12/30-September-2022-Friday.png
END:VEVENT
BEGIN:VEVENT
DTSTART;TZID=UTC:20220930T123000
DTEND;TZID=UTC:20220930T123000
DTSTAMP:20260419T222817
CREATED:20241114T101610Z
LAST-MODIFIED:20250524T041308Z
UID:10000166-1664541000-1664541000@lttc.eduhk.hk
SUMMARY:Statistical Concepts in Higher Education – Class 3 (Cantonese): Start-up Lesson
DESCRIPTION:
URL:https://lttc.eduhk.hk/events/20220930_2/
CATEGORIES:For Staff,For Student
ATTACH;FMTTYPE=image/jpeg:https://lttc.eduhk.hk/wp-content/uploads/2024/11/Statistical-Concepts-in-Higher-Education-–-Class-2-Cantonese-Consolidation.jpg
END:VEVENT
BEGIN:VEVENT
DTSTART;TZID=UTC:20220929T123000
DTEND;TZID=UTC:20220929T123000
DTSTAMP:20260419T222817
CREATED:20241114T101216Z
LAST-MODIFIED:20250524T041309Z
UID:10000165-1664454600-1664454600@lttc.eduhk.hk
SUMMARY:Statistical Concepts in Higher Education – Class 2 (English): Start-up Lesson
DESCRIPTION:
URL:https://lttc.eduhk.hk/events/20220929_1/
CATEGORIES:For Staff,For Student
ATTACH;FMTTYPE=image/jpeg:https://lttc.eduhk.hk/wp-content/uploads/2024/11/Statistical-Concepts-in-Higher-Education-–-Class-2-Cantonese-Consolidation.jpg
END:VEVENT
BEGIN:VEVENT
DTSTART;TZID=UTC:20220927T143000
DTEND;TZID=UTC:20220927T160000
DTSTAMP:20260419T222817
CREATED:20241109T043842Z
LAST-MODIFIED:20250625T114351Z
UID:10000124-1664289000-1664294400@lttc.eduhk.hk
SUMMARY:Excel at University Life and Beyond: Become a Self-regulated Learner!
DESCRIPTION:test
URL:https://lttc.eduhk.hk/events/20220927_2/
LOCATION:test stateeee\, test\, test\, test\, 11011
CATEGORIES:For Staff
ATTACH;FMTTYPE=image/png:https://lttc.eduhk.hk/wp-content/uploads/2024/11/default-image.png
END:VEVENT
BEGIN:VEVENT
DTSTART;TZID=UTC:20220927T143000
DTEND;TZID=UTC:20220927T153000
DTSTAMP:20260419T222817
CREATED:20241114T100724Z
LAST-MODIFIED:20250524T041310Z
UID:10000164-1664289000-1664292600@lttc.eduhk.hk
SUMMARY:Statistical Concepts in Higher Education – Class 2 (English): Lesson 1
DESCRIPTION:
URL:https://lttc.eduhk.hk/events/20220927_1/
CATEGORIES:For Staff,For Student
ATTACH;FMTTYPE=image/jpeg:https://lttc.eduhk.hk/wp-content/uploads/2024/11/Statistical-Concepts-in-Higher-Education-–-Class-2-Cantonese-Consolidation.jpg
END:VEVENT
BEGIN:VEVENT
DTSTART;TZID=UTC:20220913T093000
DTEND;TZID=UTC:20220913T124500
DTSTAMP:20260419T222817
CREATED:20241030T105117Z
LAST-MODIFIED:20250524T041353Z
UID:10000284-1663061400-1663073100@lttc.eduhk.hk
SUMMARY:Staff Induction (Sem 1\, 2022/23)
DESCRIPTION:test
URL:https://lttc.eduhk.hk/events/20220908_1/2022-09-13/
LOCATION:online via zoom\, Online via Zoom
CATEGORIES:For Staff,SPD Theme I
ATTACH;FMTTYPE=image/webp:https://lttc.eduhk.hk/wp-content/uploads/2024/10/Image.webp
END:VEVENT
BEGIN:VEVENT
DTSTART;TZID=UTC:20220718T123000
DTEND;TZID=UTC:20220718T131500
DTSTAMP:20260419T222818
CREATED:20241220T025757Z
LAST-MODIFIED:20250524T041307Z
UID:10000169-1658147400-1658150100@lttc.eduhk.hk
SUMMARY:TDG Project Sharing Seminar (1) in 2022/23: Visualization of Creative Thinking Through Online STEAM Teaching
DESCRIPTION:
URL:https://lttc.eduhk.hk/events/20220718_1/
CATEGORIES:For Staff,SPD Theme III
ATTACH;FMTTYPE=image/png:https://lttc.eduhk.hk/wp-content/uploads/2024/12/Teaching-Development-Grant-TDG-Project-Sharing-Seminar.png
END:VEVENT
END:VCALENDAR